BEGIN:VCALENDAR
VERSION:2.0
PRODID:-//Teleskopeffekt | Innovation für Bank &amp; Mittelstand - ECPv6.15.17.1//NONSGML v1.0//EN
CALSCALE:GREGORIAN
METHOD:PUBLISH
X-WR-CALNAME:Teleskopeffekt | Innovation für Bank &amp; Mittelstand
X-ORIGINAL-URL:https://www.teleskopeffekt.de
X-WR-CALDESC:Veranstaltungen für Teleskopeffekt | Innovation für Bank &amp; Mittelstand
REFRESH-INTERVAL;VALUE=DURATION:PT1H
X-Robots-Tag:noindex
X-PUBLISHED-TTL:PT1H
BEGIN:VTIMEZONE
TZID:Europe/Berlin
BEGIN:DAYLIGHT
TZOFFSETFROM:+0100
TZOFFSETTO:+0200
TZNAME:CEST
DTSTART:20240331T010000
END:DAYLIGHT
BEGIN:STANDARD
TZOFFSETFROM:+0200
TZOFFSETTO:+0100
TZNAME:CET
DTSTART:20241027T010000
END:STANDARD
BEGIN:DAYLIGHT
TZOFFSETFROM:+0100
TZOFFSETTO:+0200
TZNAME:CEST
DTSTART:20250330T010000
END:DAYLIGHT
BEGIN:STANDARD
TZOFFSETFROM:+0200
TZOFFSETTO:+0100
TZNAME:CET
DTSTART:20251026T010000
END:STANDARD
BEGIN:DAYLIGHT
TZOFFSETFROM:+0100
TZOFFSETTO:+0200
TZNAME:CEST
DTSTART:20260329T010000
END:DAYLIGHT
BEGIN:STANDARD
TZOFFSETFROM:+0200
TZOFFSETTO:+0100
TZNAME:CET
DTSTART:20261025T010000
END:STANDARD
END:VTIMEZONE
BEGIN:VEVENT
DTSTART;TZID=Europe/Berlin:20251001T100000
DTEND;TZID=Europe/Berlin:20251001T153000
DTSTAMP:20260422T023831
CREATED:20250725T073650Z
LAST-MODIFIED:20251001T095046Z
UID:5352-1759312800-1759332600@www.teleskopeffekt.de
SUMMARY:WERO Summit München 2025
DESCRIPTION:📅 01. Oktober 2025\n📍Design Offices München Bogenhausen\, Einsteinstraße 174 | 81677 München\n⏰ 10:00 – 15:30 Uhr\n  \nDu hast in deiner Bank mit WERO zu tun? Du möchtest deine Bank mit WERO voranbringen und vertrieblich durchstarten oder hast schlichtweg Interesse an WERO und welche spannenden Möglichkeiten sich daraus ergeben? Dann komm zum WERO Summit nach München! \nDer WERO Summit ist eine Veranstaltungsreihe\, die an verschiedenen Standorten in Deutschland durchgeführt wird und kombiniert Best Practices\, Vertriebspower und Nutzerwachstum. \n  \n  \n  \n\n\n\nGet-Together\nAuftakt in die Veranstaltung von 10:00 – 10:30 Uhr___ \nWERO-Lounge\nLocker und informativ: Impulse der DZ Bank. Aktuelle Insights zum Produkt\, Fragen & Austausch. \n___ \nRealtalk: Praxisgeschichten von Banken\nPraxisgeschichten rund ums Kundenonboarding\, Herausforderungen & Learnings. \n___ \nWERO Bootcamp – Überzeugungstechniken\, die begeistern!\nEntdecke Storytelling für dich\, Sei dabei in der Argumente-Werkstatt und bei deinem persönlichen Rapid Prototyping – kreativ\, praxisnah\, wirksam. Werde zur überzeugenden Stimme – intern und extern! \n___ \nAfter WERO WORK\nAb 15 Uhr\n  \n\n\n\n\n 
URL:https://www.teleskopeffekt.de/veranstaltung/wero-summit-muenchen-2025/
CATEGORIES:Für Banken & Finanzen
ATTACH;FMTTYPE=image/png:https://www.teleskopeffekt.de/wp-content/uploads/2025/07/TeleskopEffekt-12001500-1-2.png
ORGANIZER;CN="TeleskopEffekt GmbH":MAILTO:info@teleskopeffekt.de
END:VEVENT
BEGIN:VEVENT
DTSTART;TZID=Europe/Berlin:20251008T100000
DTEND;TZID=Europe/Berlin:20251008T153000
DTSTAMP:20260422T023831
CREATED:20250807T110556Z
LAST-MODIFIED:20251001T095532Z
UID:5423-1759917600-1759937400@www.teleskopeffekt.de
SUMMARY:WERO Summit Duisburg 2025
DESCRIPTION:📅 08.10.2025\n📍 Volksbank Rhein-Ruhr eG\, Am Innenhafen 8-10\, 47059 Duisburg\n⏰ 10:00 – 15:30 Uhr\n  \nDu hast in deiner Bank mit WERO zu tun? Du möchtest deine Bank mit WERO voranbringen und vertrieblich durchstarten oder hast schlichtweg Interesse an WERO und welche spannenden Möglichkeiten sich daraus ergeben? Dann komm zum WERO Summit nach Duisburg! \nDer WERO Summit ist eine Veranstaltungsreihe\, die an verschiedenen Standorten in Deutschland durchgeführt wird und kombiniert Best Practices\, Vertriebspower und Nutzerwachstum. \n  \n  \n  \n\n\n\n\nGet-Together\nAuftakt in die Veranstaltung von 10:00 – 10:30 Uhr\n___ \nWERO-Lounge\nLocker und informativ: Impulse der DZ Bank. Aktuelle Insights zum Produkt\, Fragen & Austausch.\n___ \nRealtalk: Praxisgeschichten von Banken\nPraxisgeschichten rund ums Kundenonboarding\, Herausforderungen & Learnings.\n___ \nWERO Bootcamp – Überzeugungstechniken\, die begeistern!\nEntdecke Storytelling für dich\, Sei dabei in der Argumente-Werkstatt und bei deinem persönlichen Rapid Prototyping – kreativ\, praxisnah\, wirksam. Werde zur überzeugenden Stimme – intern und extern! \n___ \nAfter WERO WORK\nAb 15 Uhr\n  \n\n\n\n\n 
URL:https://www.teleskopeffekt.de/veranstaltung/wero-summit-duisburg-2025/
CATEGORIES:Für Banken & Finanzen
ATTACH;FMTTYPE=image/png:https://www.teleskopeffekt.de/wp-content/uploads/2025/08/TeleskopEffekt-12001500-2-1.png
ORGANIZER;CN="TeleskopEffekt GmbH":MAILTO:info@teleskopeffekt.de
END:VEVENT
BEGIN:VEVENT
DTSTART;TZID=Europe/Berlin:20251023T100000
DTEND;TZID=Europe/Berlin:20251023T153000
DTSTAMP:20260422T023831
CREATED:20250807T110810Z
LAST-MODIFIED:20251016T130238Z
UID:5424-1761213600-1761233400@www.teleskopeffekt.de
SUMMARY:WERO Summit Bad Homburg 2025
DESCRIPTION:📅 23.10.2025\n📍 Steigenberger Hotel\, Kaiser-Friedrich-Promenade 69-75\, 61348 Bad Homburg\n⏰ 10:00 – 15:30 Uhr\n  \nDu hast in deiner Bank mit WERO zu tun? Du möchtest deine Bank mit WERO voranbringen und vertrieblich durchstarten oder hast schlichtweg Interesse an WERO und welche spannenden Möglichkeiten sich daraus ergeben? Dann komm zum WERO Summit nach Bad Homburg! \nDer WERO Summit ist eine Veranstaltungsreihe\, die an verschiedenen Standorten in Deutschland durchgeführt wird und kombiniert Best Practices\, Vertriebspower und Nutzerwachstum. \n  \n  \n  \n\n\n\nGet-Together\nAuftakt in die Veranstaltung von 10:00 – 10:30 Uhr___ \nWERO-Lounge\nLocker und informativ: Impulse der DZ Bank. Aktuelle Insights zum Produkt\, Fragen & Austausch. \n___ \nRealtalk: Praxisgeschichten von Banken\nPraxisgeschichten rund ums Kundenonboarding\, Herausforderungen & Learnings. \n___ \nWERO Bootcamp – Überzeugungstechniken\, die begeistern!\nEntdecke Storytelling für dich\, Sei dabei in der Argumente-Werkstatt und bei deinem persönlichen Rapid Prototyping – kreativ\, praxisnah\, wirksam. Werde zur überzeugenden Stimme – intern und extern! \n___ \nAfter WERO WORK\nAb 15 Uhr\n  \n\n\n\n\n 
URL:https://www.teleskopeffekt.de/veranstaltung/wero-summit-bad-homburg-2025/
CATEGORIES:Für Banken & Finanzen
ATTACH;FMTTYPE=image/png:https://www.teleskopeffekt.de/wp-content/uploads/2025/08/LinkedIn-TeleskopEffekt-12001500.png
ORGANIZER;CN="TeleskopEffekt GmbH":MAILTO:info@teleskopeffekt.de
END:VEVENT
END:VCALENDAR