BEGIN:VCALENDAR
VERSION:2.0
PRODID:-//Teleskopeffekt | Innovation für Bank &amp; Mittelstand - ECPv6.15.17.1//NONSGML v1.0//EN
CALSCALE:GREGORIAN
METHOD:PUBLISH
X-WR-CALNAME:Teleskopeffekt | Innovation für Bank &amp; Mittelstand
X-ORIGINAL-URL:https://www.teleskopeffekt.de
X-WR-CALDESC:Veranstaltungen für Teleskopeffekt | Innovation für Bank &amp; Mittelstand
REFRESH-INTERVAL;VALUE=DURATION:PT1H
X-Robots-Tag:noindex
X-PUBLISHED-TTL:PT1H
BEGIN:VTIMEZONE
TZID:Europe/Berlin
BEGIN:DAYLIGHT
TZOFFSETFROM:+0100
TZOFFSETTO:+0200
TZNAME:CEST
DTSTART:20230326T010000
END:DAYLIGHT
BEGIN:STANDARD
TZOFFSETFROM:+0200
TZOFFSETTO:+0100
TZNAME:CET
DTSTART:20231029T010000
END:STANDARD
BEGIN:DAYLIGHT
TZOFFSETFROM:+0100
TZOFFSETTO:+0200
TZNAME:CEST
DTSTART:20240331T010000
END:DAYLIGHT
BEGIN:STANDARD
TZOFFSETFROM:+0200
TZOFFSETTO:+0100
TZNAME:CET
DTSTART:20241027T010000
END:STANDARD
BEGIN:DAYLIGHT
TZOFFSETFROM:+0100
TZOFFSETTO:+0200
TZNAME:CEST
DTSTART:20250330T010000
END:DAYLIGHT
BEGIN:STANDARD
TZOFFSETFROM:+0200
TZOFFSETTO:+0100
TZNAME:CET
DTSTART:20251026T010000
END:STANDARD
END:VTIMEZONE
BEGIN:VEVENT
DTSTART;TZID=Europe/Berlin:20240421T080000
DTEND;TZID=Europe/Berlin:20240424T170000
DTSTAMP:20260422T004542
CREATED:20240222T121757Z
LAST-MODIFIED:20240320T100259Z
UID:1694-1713686400-1713978000@www.teleskopeffekt.de
SUMMARY:Fachexkursion Österreich – Potenzialträger der Regionalentwicklung
DESCRIPTION:🌍 Wir stehen an der Schwelle zu einer aufregenden Expedition! Die TeleskopEffekt GmbH\, organisiert in Kooperation der Volksbank Mittweida eG eine Fachexkursion in das Herz Österreichs. Begleiten Sie uns nach Linz\, Graz und Güssing – eine Reise\, die die Säulen Kultur\, Holz und Energie in den Fokus rückt.   \n🎭 Linz – Kultur in Bewegung: Tauchen Sie ein in die Vielfalt der Kulturprojekte der Kulturhauptstadt 2009. Erleben Sie\, wie Linz Kreativität und Innovation vereint\, um soziale und wirtschaftliche Entwicklung voranzutreiben.   \n🌲 Graz – Holzarchitektur\, die inspiriert: Bewundern Sie in Graz die Faszination der Holzarchitektur und -kunst. Erfahren Sie\, wie nachhaltige Materialien und kreatives Design zusammenkommen\, um beeindruckende Werke zu schaffen\, die sowohl umweltfreundlich als auch ästhetisch ansprechend sind.   \n🔋 Güssing – Energiegemeinschaften der Zukunft: Entdecken Sie in Güssing innovative Energielösungen und wie lokale Energiegemeinschaften in Theorie und Praxis funktionieren. Lernen Sie\, wie nachhaltige Energie die lokale Wirtschaft stärken und zum Umweltschutz beitragen kann.   \n💡 Mehrwert für Sie: Diese Tour ist mehr als nur eine Reise; es ist eine Gelegenheit  zu lernen\, sich u vernetzen und inspirierende Ideen für Ihre Region mitzunehmen. Ob Sie in der Regionalentwicklung\, im Bankwesen oder in der nachhaltigen Wirtschaft tätig sind – diese Exkursion bietet Ihnen Einblicke und Kontakte\, die Ihre Arbeit bereichern werden.   \nVorläufiges Programm:  \nVortag (21.04.): Fahrt von Mittweida nach Kemnath & Gemeinsamer Kick-Off   \nTag 1 (22.04.):    \n\nReise über die Oberpfalz nach Linz  \nCreative Stadtführung / Besichtigung der Tabakfabrik / Kulinarischer Austausch mit Prof. Steiner und Verantwortlichen der Creative Region Linz in der Grand Garage  \n\nTag 2 (23.04.):  \n\nWeiterfahrt nach Graz  \nBesuch der Holzbau-Quartiere Reininghaus und Max-Mell-Allee  \nDiskussionsforum mit dem Holzbauinstitut  \nAbendessen mit Holzkünstlern  \n\nTag 3 (24.04.):  \n\nWeiterfahrt nach Güssing  \nBesuch des EEE Europäisches Zentrum für erneuerbare Energie mit Diskussionsforum unter Leitung von Prof. Hacker\nBesichtigung von Energieprojekten der “energieautarke Gemeinde”  \nRückfahrt nach Kemnath und Mittweida\n\nPreis: 890 € (zzgl. MWST) beinhaltet Eintritt zu allen Veranstaltungen\, Workshops und Betriebsbesichtigungen sowie Transfer während der Reise.  \nBitte beachten Sie\, die Fachexkursion wird durchgeführt\, bei Teilnahme von 15 Personen.  \nAnmeldeschluss: bis einschließlich 03.04.2024
URL:https://www.teleskopeffekt.de/veranstaltung/fachexkursion-oesterreich-potenzialtraeger-der-regionalentwicklung/
CATEGORIES:Für die Region,Nachhaltigkeit,MutOffensive
ATTACH;FMTTYPE=image/png:https://www.teleskopeffekt.de/wp-content/uploads/2024/02/TE_Instagram-2024.png
ORGANIZER;CN="TeleskopEffekt GmbH":MAILTO:info@teleskopeffekt.de
END:VEVENT
END:VCALENDAR