BEGIN:VCALENDAR
VERSION:2.0
PRODID:-//Teleskopeffekt | Innovation für Bank &amp; Mittelstand - ECPv6.15.17.1//NONSGML v1.0//EN
CALSCALE:GREGORIAN
METHOD:PUBLISH
X-ORIGINAL-URL:https://www.teleskopeffekt.de
X-WR-CALDESC:Veranstaltungen für Teleskopeffekt | Innovation für Bank &amp; Mittelstand
REFRESH-INTERVAL;VALUE=DURATION:PT1H
X-Robots-Tag:noindex
X-PUBLISHED-TTL:PT1H
BEGIN:VTIMEZONE
TZID:Europe/Berlin
BEGIN:DAYLIGHT
TZOFFSETFROM:+0100
TZOFFSETTO:+0200
TZNAME:CEST
DTSTART:20230326T010000
END:DAYLIGHT
BEGIN:STANDARD
TZOFFSETFROM:+0200
TZOFFSETTO:+0100
TZNAME:CET
DTSTART:20231029T010000
END:STANDARD
BEGIN:DAYLIGHT
TZOFFSETFROM:+0100
TZOFFSETTO:+0200
TZNAME:CEST
DTSTART:20240331T010000
END:DAYLIGHT
BEGIN:STANDARD
TZOFFSETFROM:+0200
TZOFFSETTO:+0100
TZNAME:CET
DTSTART:20241027T010000
END:STANDARD
BEGIN:DAYLIGHT
TZOFFSETFROM:+0100
TZOFFSETTO:+0200
TZNAME:CEST
DTSTART:20250330T010000
END:DAYLIGHT
BEGIN:STANDARD
TZOFFSETFROM:+0200
TZOFFSETTO:+0100
TZNAME:CET
DTSTART:20251026T010000
END:STANDARD
END:VTIMEZONE
BEGIN:VEVENT
DTSTART;TZID=Europe/Berlin:20240229T120000
DTEND;TZID=Europe/Berlin:20240229T130000
DTSTAMP:20260422T034708
CREATED:20240222T114648Z
LAST-MODIFIED:20240222T114747Z
UID:1665-1709208000-1709211600@www.teleskopeffekt.de
SUMMARY:Lunch & Learn #MutOffensive – Ein Kompass in Chancenzeiten.
DESCRIPTION:Wer mutig sein will\, braucht viel Kraft. Umsetzungskraft\, Innovationskraft und Zukunftskraft. Und die richtigen Tools. Daher starten wir am 29.02.2024 die nächste Evolutionsstufe der #MutOffensive. \nWir stellen die Frage: Schafft nur Druck Veränderung? Wie können wir den Innovationserfolg im Mittelstand\, in Banken und in Startups unterstützen oder sogar sicherstellen? Wie können wir Menschen über Innovationshürden helfen? \nWhat you will learn in a nutshell: \n\nWie können wir unseren Mut weitergeben?\nWie werden wir mutig\, um die Angst der Umsetzung positiv zu nutzen?\nWie können wir auf Einfachheit bestehen?\nWelche Werkzeuge unterstützen die Umsetzung?\nWie gehen wir mit Technologieverdrossenen um?\nWobei hilft die Wissenschaft für die Zukunft?\nIst Druck ein gutes Mittel\, um Menschen zu begeistern?\nWie können wir die vier Kräfte des Mutes zu nutzen?\nWie können wir den ersten Schritt gehen?\n\nImpulsgeber: \nProf. Leonhard Zintl ist Banker\, Genossenschaftler\, Autor\, Herausgeber und besonders leidenschaftlich Zukunftsmacher. Er ist Professor für digitale Transformation und regionale Innovation an der Hochschule Mittweida. Sein Lebensmotto lautet „Einfach machen“. Die damit verbundenen Werte gibt leidenschaftlich weiter. \nDr. Benjamin Zeitler ist Geschäftsführer\, Herausgeber\, Autor\, Kommunalpolitiker und begeisterter Zukunftsgestalter. Seit über zehn Jahren unterstützt er mittelständische Unternehmen. Der wichtigste Erfolgstreiber für ihn ist es\, die Menschen bei Veränderungen und Weiterentwicklungen mitzunehmen. \nProf. Dr. Alexander Knauer ist Professor für digitale Business & E-Entrepreneurship an der Hochschule Mittweida\, Geschäftsführer\, Herausgeber\, Autor und passionierter Zukunftsstratege. Er ist Experte für e-Commerce\, digitale Geschäftsmodellen\, StartUps und weiß: In jeder Zukunftstechnologie liegt eine Chance. \nDr. Julia Breßler ist Innovationsarchitektin\, Wirtschaftspädagogin\, Podcasterin\, Autorin\, Herausgeberin und enthusiastische Innovationsworkerin. Sie begleitet seit über 15 Jahren Transformationsprojekte\, wobei sie nach wie vor der festen Überzeugung ist\, dass alles eine Frage von #Empowerment ist. \nBert Helbig perfektionierte in den letzen 30 Jahren als Radio-Moderator\, Keynotespeaker\, Medien-Manager und heute als Kommunikations-Berater die wirksamen Werkzeuge der Radiomacher und überträgt sie klug in den Business-Alltag. Der gefragte Kommunikations-Experte entwickelt Strategien und Konzepte für konstruktive\, klare und kraftvolle Kommunikation und zeigt in seinen Vorträgen und als Moderator auf\, wie Sie Ihre Zielgruppen und Mitmenschen unmittelbar aktivieren und bewegen können – und wie Sie Botschaften wirksam platzieren. \nMit der MutOffensive richten sie den Kompass auf „Chancenzeiten“ aus. Ihr Ziel ist es\, Menschen und Unternehmen\, die in der Transformation stecken\, Mut zu machen\, die nächsten notwendigen Schritte zu gehen und ihre Zukunft mit Freude selbst zu gestalten: Zukunft? Einfach machen! \nDauer: 12:00 – 13:00 Uhr\nEinlass: 11:45 Uhr – Plausch & Warm-Up mit Johannes Warth\nGastgeberin: Karin Burger
URL:https://www.teleskopeffekt.de/veranstaltung/lunch-learn-mutoffensive-ein-kompass-in-chancenzeiten/
CATEGORIES:MutOffensive
ATTACH;FMTTYPE=image/jpeg:https://www.teleskopeffekt.de/wp-content/uploads/2024/02/Lunch-and-learn-Mutoffensive-2024-02-mit-QR-v2.jpg
END:VEVENT
END:VCALENDAR