BEGIN:VCALENDAR
VERSION:2.0
PRODID:-//Teleskopeffekt | Innovation für Bank &amp; Mittelstand - ECPv6.15.17.1//NONSGML v1.0//EN
CALSCALE:GREGORIAN
METHOD:PUBLISH
X-WR-CALNAME:Teleskopeffekt | Innovation für Bank &amp; Mittelstand
X-ORIGINAL-URL:https://www.teleskopeffekt.de
X-WR-CALDESC:Veranstaltungen für Teleskopeffekt | Innovation für Bank &amp; Mittelstand
REFRESH-INTERVAL;VALUE=DURATION:PT1H
X-Robots-Tag:noindex
X-PUBLISHED-TTL:PT1H
BEGIN:VTIMEZONE
TZID:Europe/Berlin
BEGIN:DAYLIGHT
TZOFFSETFROM:+0100
TZOFFSETTO:+0200
TZNAME:CEST
DTSTART:20240331T010000
END:DAYLIGHT
BEGIN:STANDARD
TZOFFSETFROM:+0200
TZOFFSETTO:+0100
TZNAME:CET
DTSTART:20241027T010000
END:STANDARD
BEGIN:DAYLIGHT
TZOFFSETFROM:+0100
TZOFFSETTO:+0200
TZNAME:CEST
DTSTART:20250330T010000
END:DAYLIGHT
BEGIN:STANDARD
TZOFFSETFROM:+0200
TZOFFSETTO:+0100
TZNAME:CET
DTSTART:20251026T010000
END:STANDARD
BEGIN:DAYLIGHT
TZOFFSETFROM:+0100
TZOFFSETTO:+0200
TZNAME:CEST
DTSTART:20260329T010000
END:DAYLIGHT
BEGIN:STANDARD
TZOFFSETFROM:+0200
TZOFFSETTO:+0100
TZNAME:CET
DTSTART:20261025T010000
END:STANDARD
END:VTIMEZONE
BEGIN:VEVENT
DTSTART;VALUE=DATE:20250908
DTEND;VALUE=DATE:20250909
DTSTAMP:20260422T005613
CREATED:20250704T083554Z
LAST-MODIFIED:20250904T225859Z
UID:5302-1757289600-1757375999@www.teleskopeffekt.de
SUMMARY:WERO Summit Neumünster 2025
DESCRIPTION:📅 08. September 2025\n📍Altes Stahlwerk Business Hotel\, Rendsburger Straße 81\, 24537 Neumünster\n⏰ 10:00 – 15:30 Uhr\n  \nDu hast in deiner Bank mit WERO zu tun? Du möchtest deine Bank mit WERO voranbringen und vertrieblich durchstarten oder hast schlichtweg Interesse an WERO und welche spannenden Möglichkeiten sich daraus ergeben? Dann komm zum WERO Summit nach Neumünster! \nDer WERO Summit ist eine Veranstaltungsreihe\, die an verschiedenen Standorten in Deutschland durchgeführt wird und kombiniert Best Practices\, Vertriebspower und Nutzerwachstum – und all das in der inspirierenden Atmosphäre eines Sommerfests\, das verbindet. \n  \n  \n\n\n\n\nGet-Together\nAuftakt in die Veranstaltung von 10:00 – 10:30 Uhr\n___ \nWERO-Lounge\nLocker und informativ: Impulse der DZ Bank. Aktuelle Insights zum Produkt\, Fragen & Austausch. \n___ \nRealtalk: Praxisgeschichten von Banken\nPraxisgeschichten rund ums Kundenonboarding\, Herausforderungen & Learnings. \n___ \nWERO Bootcamp – Überzeugungstechniken\, die begeistern!\nEntdecke Storytelling für dich\, Sei dabei in der Argumente-Werkstatt und bei deinem persönlichen Rapid Prototyping – kreativ\, praxisnah\, wirksam. Werde zur überzeugenden Stimme – intern und extern! \n___ \nAfter WERO WORK\nAb 15 Uhr\n\n\n\n\n\n\n\n 
URL:https://www.teleskopeffekt.de/veranstaltung/wero-summit-neumuenster-2025/
LOCATION:Altes Stahlwerk Business & Lifestyle Hotel\, Rendsburger Straße 81\, Neumünster\, Schleswig-Holstein\, 24537
CATEGORIES:Für Banken & Finanzen
ATTACH;FMTTYPE=image/png:https://www.teleskopeffekt.de/wp-content/uploads/2025/07/TeleskopEffekt-12001500-3.png
ORGANIZER;CN="TeleskopEffekt GmbH":MAILTO:info@teleskopeffekt.de
END:VEVENT
BEGIN:VEVENT
DTSTART;VALUE=DATE:20250917
DTEND;VALUE=DATE:20250918
DTSTAMP:20260422T005613
CREATED:20250704T083818Z
LAST-MODIFIED:20250910T082429Z
UID:5303-1758067200-1758153599@www.teleskopeffekt.de
SUMMARY:WERO Summit Rastede 2025
DESCRIPTION:📅 17. September 2025\n📍Genossenschaftsakademie Weser-Ems\, Oldenburger Straße 118\, 26180 Rastede\n⏰ 10:00 – 15:30 Uhr\n  \nDu hast in deiner Bank mit WERO zu tun? Du möchtest deine Bank mit WERO voranbringen und vertrieblich durchstarten oder hast schlichtweg Interesse an WERO und welche spannenden Möglichkeiten sich daraus ergeben? Dann komm zum WERO Summit nach Rastede! \nDer WERO Summit ist eine Veranstaltungsreihe\, die an verschiedenen Standorten in Deutschland durchgeführt wird und kombiniert Best Practices\, Vertriebspower und Nutzerwachstum – und all das in der inspirierenden Atmosphäre eines Sommerfests\, das verbindet. \n  \n  \n\n\n\nGet-Together\nAuftakt in die Veranstaltung von 10:00 – 10:30 Uhr___WERO-Lounge\nLocker und informativ: Impulse der DZ Bank. Aktuelle Insights zum Produkt\, Fragen & Austausch. \n___ \nRealtalk: Praxisgeschichten von Banken\nPraxisgeschichten rund ums Kundenonboarding\, Herausforderungen & Learnings. \n___ \nWERO Bootcamp – Überzeugungstechniken\, die begeistern!\nEntdecke Storytelling für dich\, Sei dabei in der Argumente-Werkstatt und bei deinem persönlichen Rapid Prototyping – kreativ\, praxisnah\, wirksam. Werde zur überzeugenden Stimme – intern und extern! \n___ \nAfter WERO WORK\nAb 15 Uhr\n\n\n\n\n\n  \nHier können Sie sich bereits für das Event anmelden:\n(Um das Formular sehen zu können\, müssen Sie die Inhalte entsperren)
URL:https://www.teleskopeffekt.de/veranstaltung/wero-summit-rastede-2025/
LOCATION:Genossenschaftsakademie Weser-Ems\, Oldenburger Straße 118\, Rastede\, Niedersachsen\, 26180
CATEGORIES:Für Banken & Finanzen
ATTACH;FMTTYPE=image/png:https://www.teleskopeffekt.de/wp-content/uploads/2025/07/TeleskopEffekt-12001500-1-1.png
ORGANIZER;CN="TeleskopEffekt GmbH":MAILTO:info@teleskopeffekt.de
END:VEVENT
END:VCALENDAR