BEGIN:VCALENDAR
VERSION:2.0
PRODID:-//Teleskopeffekt | Innovation für Bank &amp; Mittelstand - ECPv6.15.17.1//NONSGML v1.0//EN
CALSCALE:GREGORIAN
METHOD:PUBLISH
X-WR-CALNAME:Teleskopeffekt | Innovation für Bank &amp; Mittelstand
X-ORIGINAL-URL:https://www.teleskopeffekt.de
X-WR-CALDESC:Veranstaltungen für Teleskopeffekt | Innovation für Bank &amp; Mittelstand
REFRESH-INTERVAL;VALUE=DURATION:PT1H
X-Robots-Tag:noindex
X-PUBLISHED-TTL:PT1H
BEGIN:VTIMEZONE
TZID:Europe/Berlin
BEGIN:DAYLIGHT
TZOFFSETFROM:+0100
TZOFFSETTO:+0200
TZNAME:CEST
DTSTART:20230326T010000
END:DAYLIGHT
BEGIN:STANDARD
TZOFFSETFROM:+0200
TZOFFSETTO:+0100
TZNAME:CET
DTSTART:20231029T010000
END:STANDARD
BEGIN:DAYLIGHT
TZOFFSETFROM:+0100
TZOFFSETTO:+0200
TZNAME:CEST
DTSTART:20240331T010000
END:DAYLIGHT
BEGIN:STANDARD
TZOFFSETFROM:+0200
TZOFFSETTO:+0100
TZNAME:CET
DTSTART:20241027T010000
END:STANDARD
BEGIN:DAYLIGHT
TZOFFSETFROM:+0100
TZOFFSETTO:+0200
TZNAME:CEST
DTSTART:20250330T010000
END:DAYLIGHT
BEGIN:STANDARD
TZOFFSETFROM:+0200
TZOFFSETTO:+0100
TZNAME:CET
DTSTART:20251026T010000
END:STANDARD
END:VTIMEZONE
BEGIN:VEVENT
DTSTART;TZID=Europe/Berlin:20241025T120000
DTEND;TZID=Europe/Berlin:20241025T130000
DTSTAMP:20260422T005030
CREATED:20240222T124616Z
LAST-MODIFIED:20241017T052714Z
UID:1704-1729857600-1729861200@www.teleskopeffekt.de
SUMMARY:Startup Werkzeugkasten: Aufbau eines digitalen Business Netzwerks mit LinkedIn
DESCRIPTION:Networking bedeutet\, relevante Kontakte aufzubauen\, sich mit Gleichgesinnten auszutauschen und einander zu unterstützen. Doch besonders im digitalen Raum gibt es viele „Salespfosten“\, Kontakt-Grabber und automatisierte Kontaktanfragen. Deshalb zeigt Anne Meinhardt dir\, wie du auf LinkedIn souverän und stilvoll netzwerken kannst\, relevante Kontakte findest und eine Verbindung zwischen deinem digitalen und analogen Netzwerk herstellst. Wir werden uns anschauen\, welche Bedeutung die digitale Etikette hat\, welche Arten von Netzwerken es gibt\, wie du neue Kontakte findest und dein Netzwerk aktiv pflegst. Aber auch\, wie du mit kommentarlosen Massenanfragen souverän umgehen kannst und entscheidest\, wer Teil deines Netzwerks sein sollte. \nNutze die Chancen des digitalen Netzwerkens für dich: \n\npräsentiere dich als ansprechbare und offene Persönlichkeit\nbaue dein operatives und strategisches Netzwerk aus\nfestige deine Kontakte und erhalte belastbare Beziehungen\nwirke sympathischer dank digitaler Etikette\n\nNutze jetzt die Möglichkeiten von LinkedIn\, um dir ein ortsunabhängiges\, belastbares digitales Netzwerk aufzubauen.
URL:https://www.teleskopeffekt.de/veranstaltung/startup-werkzeugkasten-aufbau-eines-digitalen-business-netzwerkwerks-mit-linkedin/
LOCATION:digital
CATEGORIES:Für Startups
ATTACH;FMTTYPE=image/png:https://www.teleskopeffekt.de/wp-content/uploads/2024/02/LinkedIn-1200-x-1200.png
ORGANIZER;CN="TeleskopEffekt GmbH":MAILTO:info@teleskopeffekt.de
END:VEVENT
END:VCALENDAR