BEGIN:VCALENDAR
VERSION:2.0
PRODID:-//Teleskopeffekt | Innovation für Bank &amp; Mittelstand - ECPv6.15.17.1//NONSGML v1.0//EN
CALSCALE:GREGORIAN
METHOD:PUBLISH
X-ORIGINAL-URL:https://www.teleskopeffekt.de
X-WR-CALDESC:Veranstaltungen für Teleskopeffekt | Innovation für Bank &amp; Mittelstand
REFRESH-INTERVAL;VALUE=DURATION:PT1H
X-Robots-Tag:noindex
X-PUBLISHED-TTL:PT1H
BEGIN:VTIMEZONE
TZID:Europe/Berlin
BEGIN:DAYLIGHT
TZOFFSETFROM:+0100
TZOFFSETTO:+0200
TZNAME:CEST
DTSTART:20230326T010000
END:DAYLIGHT
BEGIN:STANDARD
TZOFFSETFROM:+0200
TZOFFSETTO:+0100
TZNAME:CET
DTSTART:20231029T010000
END:STANDARD
BEGIN:DAYLIGHT
TZOFFSETFROM:+0100
TZOFFSETTO:+0200
TZNAME:CEST
DTSTART:20240331T010000
END:DAYLIGHT
BEGIN:STANDARD
TZOFFSETFROM:+0200
TZOFFSETTO:+0100
TZNAME:CET
DTSTART:20241027T010000
END:STANDARD
BEGIN:DAYLIGHT
TZOFFSETFROM:+0100
TZOFFSETTO:+0200
TZNAME:CEST
DTSTART:20250330T010000
END:DAYLIGHT
BEGIN:STANDARD
TZOFFSETFROM:+0200
TZOFFSETTO:+0100
TZNAME:CET
DTSTART:20251026T010000
END:STANDARD
END:VTIMEZONE
BEGIN:VEVENT
DTSTART;TZID=Europe/Berlin:20240709T140000
DTEND;TZID=Europe/Berlin:20240710T150000
DTSTAMP:20260421T194228
CREATED:20240222T125131Z
LAST-MODIFIED:20240626T061330Z
UID:1706-1720533600-1720623600@www.teleskopeffekt.de
SUMMARY:Bank Innovativ Tag 2024
DESCRIPTION:Es geht in die nächste Runde: Bank Innovativ Tag 2024 – findet am 09. und 10. Juli 2024 in der Werkbank32 in Mittweida statt. Klasse Speaker:innen\, Top Netzwerk\, hervorragende und innovative Teilnehmer:innen. Wir bauen auf die großartigen Erfahrungen der letzten Jahre auf und ermöglichen Dir viele innovative Impulse und Einblicke von und mit den Partnern aus unserem einzigartigen Innovationsökosystem. \n5 Gründe\, warum Du dabei sein sollten:\n\n🌟 Sei vorbereitet auf die Zukunft: Erfahre aus erster Hand\, welche Veränderungen die Finanzbranche revolutionieren und wie Du diese Chancen für dein Unternehmen nutzen kannst.\n💡 Entdecke neue Technologien: Lerne innovative Technologien kennen\, die das Potenzial haben\, die Finanzwelt zu transformieren und deine Geschäfte auf das nächste Level zu heben.\n🔮 Erkunde die Trends von morgen: Tauche ein\, in die Trends und Entwicklungen\, die die Branche prägen\, und sei so stets einen Schritt voraus.\n🤝 Vernetze Dich mit Gleichgesinnten: Tausche Dich mit Experten und Gleichgesinnten aus der Branche aus\, knüpfe wertvolle Kontakte und erweiter Dein Netzwerk.\n🎤 Erlebe großartige Speaker:innen: Freue dich auf inspirierende Vorträge und spannende Insights von herausragenden Persönlichkeiten der Finanzwelt.\n\n🌟Bank Innovativ Programm\nUnser vielfältiges Programm bietet Ihnen innovative Impulse und Einblicke\, die Sie begeistern werden. Die tolle Location – Werkbank32 – schafft eine inspirierende Atmosphäre für diesen Tag voller Wissen und Inspiration. Die Tage werden sich um diese drei Themenbereiche handeln: \n\nNew Banking – Innovative Lösungen durch digitale Transformation\nNear Banking & kooperative Innovation – Die Zukunft des Bankings\nBeyond Banking kreativ – Kundennähe und Marktrelevanz jenseits der Traditionen\n\n  \n🌟Unsere Speakerinnen und Speaker lauten: \nBjörn Schmuck – Amberra\nKatja Quiram –  Union Investment  \nThomas Lurch – Union Investment  \nHans Schätzle – AWS \nJanina Beckett  – IBM\nHasan Yilmaz – Microsoft\nPhilipp Geusendam – R+V\nDr. Maximilian von Geyer – OnePager Lab \nRené Linek – WG-DATA \nLaura Pistorius – Fraunhofer Lernlabor Hochschule Mittweida \nTobias Oliver Khan – Hypoport\n Niclas Kurtz – Hypoport\nBenjamin Höfle – Nortal \nChristian Arndt – High-Tech Gründerfonds  \nMarion Mattern – TeleskopEffekt \nProf. Leonard Zintl – Volksbank Mittweida eG \n\n		\n		\n			\n				\n			\n			\n				\n			\n		\n\n\n		\n		\n			\n				\n			\n		\n\nDownload des Programms hier.  \n🌟Deine Investition\n\nBanken und Finanzinstitute: 790\,- Euro zzgl. MwSt (19%)\nDienstleistungsgesellschaften: 1090\,- Euro zzgl. MwSt (19%)\nBuddy Tickets: Bei der Anmeldung von einer zweiten Begleitperson\, erhält diese 50% Rabatt auf das zweite Ticket. Bitte dazu die vollständigen Daten der Begleitperson bei der Anmeldung angeben.\n\n🌟Anreise\, Übernachtung und Verpflegung\nBei der Anmeldung zum Bank Innovativ Tag erhältst Du weitere Informationen zu Hotelübernachtungen und Anreisemöglichkeiten. Parken kann man kostenfrei entlang der Bahnhofstraße. Am Abend findet ein gemeinsames Abendessen für alle Teilnehmer statt. \nBlickst Du gern über den Tellerrand hinaus\, willst Du Deine Bank weiter vorantreiben\, Chancen erkennen und nutzen\, Dein Netzwerk erweitern und sich von neuen Technologien und Möglichkeiten inspirieren lassen? \nDann melden Dich jetzt an.  \nHier findest Du das Video vom Bank innovativ Tag 2023: Bank innovativ Tag 04. & 05.07.2023 I TeleskopEffekt GmbH
URL:https://www.teleskopeffekt.de/veranstaltung/bank-innovativ-tag-2024/
LOCATION:Werkbank32\, Bahnhofstraße 32 · 09648 Mittweida\, Mittweida\, Sachsen\, 09648\, Deutschland
CATEGORIES:Für Startups,Für Banken & Finanzen,Werkbank32,Nachhaltigkeit
ATTACH;FMTTYPE=image/png:https://www.teleskopeffekt.de/wp-content/uploads/2024/02/Allg.-Post-Start-Slide.png
ORGANIZER;CN="TeleskopEffekt GmbH":MAILTO:info@teleskopeffekt.de
END:VEVENT
END:VCALENDAR